BEGIN:VCALENDAR
VERSION:2.0
PRODID:-//Floriana Local Council - ECPv6.15.15//NONSGML v1.0//EN
CALSCALE:GREGORIAN
METHOD:PUBLISH
X-ORIGINAL-URL:https://www.florianalocalcouncil.com
X-WR-CALDESC:Events for Floriana Local Council
REFRESH-INTERVAL;VALUE=DURATION:PT1H
X-Robots-Tag:noindex
X-PUBLISHED-TTL:PT1H
BEGIN:VTIMEZONE
TZID:Europe/Malta
BEGIN:DAYLIGHT
TZOFFSETFROM:+0100
TZOFFSETTO:+0200
TZNAME:CEST
DTSTART:20250330T010000
END:DAYLIGHT
BEGIN:STANDARD
TZOFFSETFROM:+0200
TZOFFSETTO:+0100
TZNAME:CET
DTSTART:20251026T010000
END:STANDARD
BEGIN:DAYLIGHT
TZOFFSETFROM:+0100
TZOFFSETTO:+0200
TZNAME:CEST
DTSTART:20260329T010000
END:DAYLIGHT
BEGIN:STANDARD
TZOFFSETFROM:+0200
TZOFFSETTO:+0100
TZNAME:CET
DTSTART:20261025T010000
END:STANDARD
BEGIN:DAYLIGHT
TZOFFSETFROM:+0100
TZOFFSETTO:+0200
TZNAME:CEST
DTSTART:20270328T010000
END:DAYLIGHT
BEGIN:STANDARD
TZOFFSETFROM:+0200
TZOFFSETTO:+0100
TZNAME:CET
DTSTART:20271031T010000
END:STANDARD
END:VTIMEZONE
BEGIN:VEVENT
DTSTART;TZID=Europe/Malta:20260406T170000
DTEND;TZID=Europe/Malta:20260406T210000
DTSTAMP:20260425T130835
CREATED:20260308T100336Z
LAST-MODIFIED:20260310T184622Z
UID:2152-1775494800-1775509200@www.florianalocalcouncil.com
SUMMARY:Floriana Local Council Meeting
DESCRIPTION:This meeting is for and has the following
URL:https://www.florianalocalcouncil.com/event/floriana-local-council-meeting/
LOCATION:Local Council Building Floriana\, Floriana\, Malta
CATEGORIES:Local Council Meetings
ATTACH;FMTTYPE=image/x-icon:https://www.florianalocalcouncil.com/wp-content/uploads/2017/01/favicon.ico
END:VEVENT
END:VCALENDAR