BEGIN:VCALENDAR
VERSION:2.0
PRODID:-//Floriana Local Council - ECPv6.15.15//NONSGML v1.0//EN
CALSCALE:GREGORIAN
METHOD:PUBLISH
X-WR-CALNAME:Floriana Local Council
X-ORIGINAL-URL:https://www.florianalocalcouncil.com
X-WR-CALDESC:Events for Floriana Local Council
REFRESH-INTERVAL;VALUE=DURATION:PT1H
X-Robots-Tag:noindex
X-PUBLISHED-TTL:PT1H
BEGIN:VTIMEZONE
TZID:Europe/Malta
BEGIN:DAYLIGHT
TZOFFSETFROM:+0100
TZOFFSETTO:+0200
TZNAME:CEST
DTSTART:20250330T010000
END:DAYLIGHT
BEGIN:STANDARD
TZOFFSETFROM:+0200
TZOFFSETTO:+0100
TZNAME:CET
DTSTART:20251026T010000
END:STANDARD
BEGIN:DAYLIGHT
TZOFFSETFROM:+0100
TZOFFSETTO:+0200
TZNAME:CEST
DTSTART:20260329T010000
END:DAYLIGHT
BEGIN:STANDARD
TZOFFSETFROM:+0200
TZOFFSETTO:+0100
TZNAME:CET
DTSTART:20261025T010000
END:STANDARD
BEGIN:DAYLIGHT
TZOFFSETFROM:+0100
TZOFFSETTO:+0200
TZNAME:CEST
DTSTART:20270328T010000
END:DAYLIGHT
BEGIN:STANDARD
TZOFFSETFROM:+0200
TZOFFSETTO:+0100
TZNAME:CET
DTSTART:20271031T010000
END:STANDARD
END:VTIMEZONE
BEGIN:VEVENT
DTSTART;TZID=Europe/Malta:20260406T170000
DTEND;TZID=Europe/Malta:20260406T210000
DTSTAMP:20260425T130217
CREATED:20260308T100336Z
LAST-MODIFIED:20260310T184622Z
UID:2152-1775494800-1775509200@www.florianalocalcouncil.com
SUMMARY:Floriana Local Council Meeting
DESCRIPTION:This meeting is for and has the following
URL:https://www.florianalocalcouncil.com/event/floriana-local-council-meeting/
LOCATION:Local Council Building Floriana\, Floriana\, Malta
CATEGORIES:Local Council Meetings
ATTACH;FMTTYPE=image/x-icon:https://www.florianalocalcouncil.com/wp-content/uploads/2017/01/favicon.ico
END:VEVENT
BEGIN:VEVENT
DTSTART;TZID=Europe/Malta:20260412T100000
DTEND;TZID=Europe/Malta:20260412T160000
DTSTAMP:20260425T130217
CREATED:20260406T075028Z
LAST-MODIFIED:20260406T075028Z
UID:2190-1775988000-1776009600@www.florianalocalcouncil.com
SUMMARY:TAĦT IL-LOĠOĠ
DESCRIPTION:
URL:https://www.florianalocalcouncil.com/event/taht-il-logog/
ATTACH;FMTTYPE=image/jpeg:https://www.florianalocalcouncil.com/wp-content/uploads/2026/04/656363111_943574358222777_5601918195257419174_n.jpg
END:VEVENT
BEGIN:VEVENT
DTSTART;TZID=Europe/Malta:20260418T210000
DTEND;TZID=Europe/Malta:20260418T233000
DTSTAMP:20260425T130217
CREATED:20260216T131410Z
LAST-MODIFIED:20260415T075114Z
UID:2097-1776546000-1776555000@www.florianalocalcouncil.com
SUMMARY:Festival Nazzjonali tan-Nar tal-Art Mekkanizzat
DESCRIPTION:Imħabbra d-dettalji inizjali b’rabta mal-Festival Nazzjonali tan-Nar tal-Art Mekkanizzat
URL:https://www.florianalocalcouncil.com/event/festival-nazzjonali-tan-nar-tal-art-mekkanizzat/
LOCATION:Pjazza San Publju – il-Fosos\, Malta
ATTACH;FMTTYPE=image/jpeg:https://www.florianalocalcouncil.com/wp-content/uploads/2026/02/653709521_1340200608154647_6718504600423579210_n.jpg
END:VEVENT
BEGIN:VEVENT
DTSTART;VALUE=DATE:20260509
DTEND;VALUE=DATE:20260510
DTSTAMP:20260425T130217
CREATED:20260415T113924Z
LAST-MODIFIED:20260415T113924Z
UID:2211-1778284800-1778371199@www.florianalocalcouncil.com
SUMMARY:Jum it-Twaqqif tal-Floriana
DESCRIPTION:
URL:https://www.florianalocalcouncil.com/event/jum-it-twaqqif-tal-floriana/
LOCATION:Floriana\, Malta
ATTACH;FMTTYPE=image/jpeg:https://www.florianalocalcouncil.com/wp-content/uploads/2026/04/494894113_1085965843578126_9064301839366491644_n.jpg
END:VEVENT
BEGIN:VEVENT
DTSTART;TZID=Europe/Malta:20260516T083000
DTEND;TZID=Europe/Malta:20260516T140000
DTSTAMP:20260425T130217
CREATED:20260415T074924Z
LAST-MODIFIED:20260423T173414Z
UID:2202-1778920200-1778940000@www.florianalocalcouncil.com
SUMMARY:Konferenza: Nirxuxtaw il-Komunitajiet tal-Port il-Kbir
DESCRIPTION: Grand Hotel Excelsior Malta 25 ta’ April 8.30am \nIrreġistra hawnhekk: https://shorturl.at/8T8t5
URL:https://www.florianalocalcouncil.com/event/konferenza-nirxuxtaw-il-komunitajiet-tal-port-il-kbir/
LOCATION:Grand Hotel Excelsior\, Triq L-Assedju L-Kbir\, Floriana\, FRN1810\, Malta
ATTACH;FMTTYPE=image/png:https://www.florianalocalcouncil.com/wp-content/uploads/2026/04/Floriana-Local-Council-Poster-16MAY-scaled.png
END:VEVENT
END:VCALENDAR