BEGIN:VCALENDAR
VERSION:2.0
PRODID:-//Floriana Local Council - ECPv6.15.15//NONSGML v1.0//EN
CALSCALE:GREGORIAN
METHOD:PUBLISH
X-WR-CALNAME:Floriana Local Council
X-ORIGINAL-URL:https://www.florianalocalcouncil.com
X-WR-CALDESC:Events for Floriana Local Council
REFRESH-INTERVAL;VALUE=DURATION:PT1H
X-Robots-Tag:noindex
X-PUBLISHED-TTL:PT1H
BEGIN:VTIMEZONE
TZID:Europe/Malta
BEGIN:DAYLIGHT
TZOFFSETFROM:+0100
TZOFFSETTO:+0200
TZNAME:CEST
DTSTART:20160327T010000
END:DAYLIGHT
BEGIN:STANDARD
TZOFFSETFROM:+0200
TZOFFSETTO:+0100
TZNAME:CET
DTSTART:20161030T010000
END:STANDARD
BEGIN:DAYLIGHT
TZOFFSETFROM:+0100
TZOFFSETTO:+0200
TZNAME:CEST
DTSTART:20170326T010000
END:DAYLIGHT
BEGIN:STANDARD
TZOFFSETFROM:+0200
TZOFFSETTO:+0100
TZNAME:CET
DTSTART:20171029T010000
END:STANDARD
BEGIN:DAYLIGHT
TZOFFSETFROM:+0100
TZOFFSETTO:+0200
TZNAME:CEST
DTSTART:20180325T010000
END:DAYLIGHT
BEGIN:STANDARD
TZOFFSETFROM:+0200
TZOFFSETTO:+0100
TZNAME:CET
DTSTART:20181028T010000
END:STANDARD
BEGIN:DAYLIGHT
TZOFFSETFROM:+0100
TZOFFSETTO:+0200
TZNAME:CEST
DTSTART:20190331T010000
END:DAYLIGHT
BEGIN:STANDARD
TZOFFSETFROM:+0200
TZOFFSETTO:+0100
TZNAME:CET
DTSTART:20191027T010000
END:STANDARD
BEGIN:DAYLIGHT
TZOFFSETFROM:+0100
TZOFFSETTO:+0200
TZNAME:CEST
DTSTART:20200329T010000
END:DAYLIGHT
BEGIN:STANDARD
TZOFFSETFROM:+0200
TZOFFSETTO:+0100
TZNAME:CET
DTSTART:20201025T010000
END:STANDARD
BEGIN:DAYLIGHT
TZOFFSETFROM:+0100
TZOFFSETTO:+0200
TZNAME:CEST
DTSTART:20210328T010000
END:DAYLIGHT
BEGIN:STANDARD
TZOFFSETFROM:+0200
TZOFFSETTO:+0100
TZNAME:CET
DTSTART:20211031T010000
END:STANDARD
END:VTIMEZONE
BEGIN:VEVENT
DTSTART;TZID=Europe/Malta:20200315T130000
DTEND;TZID=Europe/Malta:20200315T180000
DTSTAMP:20260425T132415
CREATED:20200310T142628Z
LAST-MODIFIED:20200311T115944Z
UID:1239-1584277200-1584295200@www.florianalocalcouncil.com
SUMMARY:CANCELLED: St. Patrick's Sunday 2020
DESCRIPTION:
URL:https://www.florianalocalcouncil.com/event/st-patricks-sunday-2020/
LOCATION:Floriana\, Malta
ATTACH;FMTTYPE=image/jpeg:https://www.florianalocalcouncil.com/wp-content/uploads/2020/03/87023356_2933958519998777_3706329542613270528_n.jpg
END:VEVENT
BEGIN:VEVENT
DTSTART;TZID=Europe/Malta:20191013T080000
DTEND;TZID=Europe/Malta:20191013T163000
DTSTAMP:20260425T132415
CREATED:20190909T084512Z
LAST-MODIFIED:20190909T122336Z
UID:1085-1570953600-1570984200@www.florianalocalcouncil.com
SUMMARY:Ġenna ta' Ġonna 2019
DESCRIPTION:
URL:https://www.florianalocalcouncil.com/event/genna-ta-gonna-2019/
LOCATION:Floriana\, Malta
ATTACH;FMTTYPE=image/jpeg:https://www.florianalocalcouncil.com/wp-content/uploads/2017/04/vilena.jpg
END:VEVENT
BEGIN:VEVENT
DTSTART;TZID=Europe/Malta:20190914T080000
DTEND;TZID=Europe/Malta:20190914T110000
DTSTAMP:20260425T132415
CREATED:20190911T084801Z
LAST-MODIFIED:20190911T084927Z
UID:1135-1568448000-1568458800@www.florianalocalcouncil.com
SUMMARY:'Żomm l-Indafa fil-Floriana'
DESCRIPTION:Is-Sibt li ġej l-attività: ‘Żomm l-Indafa fil-Floriana’
URL:https://www.florianalocalcouncil.com/event/zomm-l-indafa-fil-floriana/
LOCATION:Floriana\, Malta
ATTACH;FMTTYPE=image/jpeg:https://www.florianalocalcouncil.com/wp-content/uploads/2019/09/furjana-tindif-3.jpeg
END:VEVENT
BEGIN:VEVENT
DTSTART;TZID=Europe/Malta:20190310T120000
DTEND;TZID=Europe/Malta:20190310T180000
DTSTAMP:20260425T132415
CREATED:20190221T141449Z
LAST-MODIFIED:20190221T142530Z
UID:1056-1552219200-1552240800@www.florianalocalcouncil.com
SUMMARY:St. Patrick's Sunday
DESCRIPTION:Il-Festa ta’ San Patrizju\, li ilha tiġi ċċelebrata fil-Floriana mill-bidu tas-seklu 20. Din is-sena se tkun iċċelebrata nhar il-Ħadd 10 ta’ Marzu f’Balzunetta. \nDin il-festa tal-qaddis prottetur tal-Irlanda għandha rabta speċjali ma dak kollu li huwa aħdar u kien fil-bidu tas-seklu 20 meta bdiet it-tradizzjoni li l-Furjanizi jissejjħu bħala tal-Irish. Dan hekk kif dak iż-żmien suldati Irandliżi kienu stazzjonati fiż-żona ta’ Balzunetta. \nFl-1905 imbagħad kienet intlagħbet logħba futbol bejn il-Klabb tal-Floriana u t-tim Irandiż. Dak iż-żmien it-tim ta’ Floriana FC kien jilgħab bil-kuluri aħdar u aħmar iżda wara dik il-logħba bdew jilgħabu bil-kuluri tal-irlanda\, aħdar u abjad\, hekk kif kien hemm skambju tal-flokkijiet wara l-partita. \nSpettaklu ta’ din is-sena se jingħata minn Alex Grech Reflax\, Ozzy Lino\, Owen Leuellen\, Kevin Borg u Zone Five Band. \nDin se tkun is-seba’ edizzjoni li se tkun iċċelebrata St Patrick’s Sunday fil-Floriana b’attività mill-Kunsill Lokali. \nIdħol fl-attività fuq Fecebook hawnhekk.
URL:https://www.florianalocalcouncil.com/event/st-patricks-sunday/
LOCATION:Floriana\, Malta
END:VEVENT
BEGIN:VEVENT
DTSTART;TZID=Europe/Malta:20181014T090000
DTEND;TZID=Europe/Malta:20181025T170000
DTSTAMP:20260425T132415
CREATED:20181003T143935Z
LAST-MODIFIED:20181003T144019Z
UID:1030-1539507600-1540486800@www.florianalocalcouncil.com
SUMMARY:Ġenna ta' Ġonna 2018
DESCRIPTION:M’hemmx dubju li l-Floriana hija ‘Ġenna ta’ Ġonna’ għax tipposjedi l-akbar numru ta’ ġonna pubbliċi f’Malta mxerrdin mal-konfini tagħha\, iżda għandha wkoll ħafna aktar x’toffri. Wara s-suċċessi fi snin preċedenti\, din is-sena se ssir għat-tmien edizzjoni l-attività ‘Ġenna ta’ Ġonna’. \nBil-kollaborazzjoni ta’ diversi organizazzjonijiet li qegħdin fil-Floriana\, dakinhar se jkunu miftuħin il-ġonna kollha li għandna fil-Floriana\, mużewijiet\, binjiet storiċi u postijiet ta’ interess. Fid-diversi postijiet se jkun hemm gwida li tispjega l-valur storiku tal-post. \nFost l-attrazzjonijiet se jkun hemm manuskritti antiki u patrijiet ibbalzmati fil-Kunvent tal-Kapuċċini\, ċans li titla’ fuq il-kampnar tal-Knisja Arċipretali ta’ San Publju\, il-ġonna “sigrieti” fis-swar\, xogħol mill-artisti taħt il-loġoġ\, reċtar ta’ xeni storiċi li ġraw fil-lokalità\, it-tajr li kien ikun hemm fuq il-Fosos\, l-akbar pjazza f’pajjiżna\, xeni mill-isbaħ li l-Floriana għandha x’toffri u li ftit nies tul il-jum japprezzaw u kif ukoll bosta attivitajiet oħra li se jkunu mħabbra fil-jiem li ġejjin. \nGħalhekk żommu l-Ħadd 14 t’Ottubru 2018 ħieles biex issiru tafu aktar minn qatt qabel kemm hi sabiħa u sinjura l-Floriana tagħna fl-istorja\, fl-arti u fl-ambjent tagħha. \nGħal iktar informazzjoni wieħed għandu jikkuntattja l-Kunsill Lokali tal-Floriana fuq 2123 5523 jew email fuq floriana.lc@gov.mt. \n— \nUndoubtedly Floriana is a “Heaven of Gardens” since it possesses the largest number of public gardens on the island spread throughout this suburb. However Floriana has a lot more to offer. After the success of the previous years\, this year there is going to be the 8th edition of “Ġenna ta’ Ġonna” (Heaven of Gardens) \nIn collaboration with various organisations within Floriana\, on Sunday 14th October you will be able to visit all gardens\, museums\, historical buildings and other places of interest in our locality. In most places there is even going to be guided tours. \nAmongst the attractions there is going to be old manuscripts and mummified bodies of priests under the Cappuccin convent. Also not to be missed is the opportunity to go up the bell tower of St. Pubius Parish Church. Explore the secret gardens within the bastions and works of art under the arches on St. Anne’s Street\, and enjoy scenes that only Floriana can offer. Some scenes that only a handful of people do appreciate during the day. \nWe urge that you keep Sunday 14th October 2018 free so you get to know how beautiful and rich Floriana is in its story\, art and environment. \nMore activities shall be announced in the coming days\, and for more information you may contact the Floriana Local Council on 21235523 or via email floriana.lc@gov.mt.
URL:https://www.florianalocalcouncil.com/event/genna-ta-gonna-2018/
ATTACH;FMTTYPE=image/jpeg:https://www.florianalocalcouncil.com/wp-content/uploads/2018/10/41768501_912868255570017_8124622379226759168_n.jpg
END:VEVENT
BEGIN:VEVENT
DTSTART;TZID=Europe/Malta:20171015T090000
DTEND;TZID=Europe/Malta:20171015T160000
DTSTAMP:20260425T132415
CREATED:20170913T114727Z
LAST-MODIFIED:20170915T090635Z
UID:910-1508058000-1508083200@www.florianalocalcouncil.com
SUMMARY:Ġenna ta' Ġonna 2017
DESCRIPTION:Ġenna ta’ Ġonna 2017
URL:https://www.florianalocalcouncil.com/event/genna-ta-gonna-2017/
LOCATION:Floriana\, Malta
END:VEVENT
BEGIN:VEVENT
DTSTART;TZID=Europe/Malta:20171006T200000
DTEND;TZID=Europe/Malta:20171006T230000
DTSTAMP:20260425T132415
CREATED:20170915T090910Z
LAST-MODIFIED:20170915T091028Z
UID:930-1507320000-1507330800@www.florianalocalcouncil.com
SUMMARY:Floriana Ghost Tour VIII
DESCRIPTION:Discover the horror stories from Floriana’s history. Go into the places where murders and fraud were committed\, creepy gardens\, crypts and derilict cemetries. A one-time opportunity not to be missed. Book now by sending a private message on this page or sms or phone on 79065040.  \nPlaces are limited and only bookings in advance will be accepted. Price: €15. \nAn event organised from Assoċjazzjoni Publju ta’ Malta. \nThe event on Facebook
URL:https://www.florianalocalcouncil.com/event/floriana-ghost-tour-viii/
END:VEVENT
BEGIN:VEVENT
DTSTART;TZID=Europe/Malta:20170926T190000
DTEND;TZID=Europe/Malta:20170926T203000
DTSTAMP:20260425T132415
CREATED:20170915T090612Z
LAST-MODIFIED:20170915T090612Z
UID:927-1506452400-1506457800@www.florianalocalcouncil.com
SUMMARY:A Tour of Floriana and its Heritage - Borgo Vilhena
DESCRIPTION:A Tour of Floriana and its Heritage – Borgo Vilhena
URL:https://www.florianalocalcouncil.com/event/a-tour-of-floriana-and-its-heritage-borgo-vilhena/
END:VEVENT
BEGIN:VEVENT
DTSTART;VALUE=DATE:20170819
DTEND;VALUE=DATE:20170820
DTSTAMP:20260425T132415
CREATED:20170612T134145Z
LAST-MODIFIED:20170612T134331Z
UID:808-1503100800-1503187199@www.florianalocalcouncil.com
SUMMARY:JOSEPH CALLEJA 20TH ANNIVERSARY CONCERT
DESCRIPTION:2017 marks the 20th Anniversary of Joseph Calleja’s public debut in the world of opera. To commemorate this occasion\, NnG Promotions are proud to announce world renowned tenor Andrea Bocelli as special guest for the annual Joseph Calleja Concert.  \nThe Joseph Calleja 20th Anniversary concert will be held on the 19th August 2017 at The Granaries in Floriana with the participation of the Malta Philharmonic Orchestra and the BOV Joseph Calleja Children’s Choir. The concert is supported by Bank of Valletta\, the Malta Tourism Authority\, the Government of Malta and Gasan Mamo.
URL:https://www.florianalocalcouncil.com/event/joseph-calleja-20th-anniversary-concert/
LOCATION:Granaries Floriana\, Floriana\, Malta
ATTACH;FMTTYPE=image/jpeg:https://www.florianalocalcouncil.com/wp-content/uploads/2017/06/821140bc-c094-4362-8878-211a574dc111.jpeg
END:VEVENT
BEGIN:VEVENT
DTSTART;TZID=Europe/Malta:20170627T180000
DTEND;TZID=Europe/Malta:20170627T233000
DTSTAMP:20260425T132415
CREATED:20170508T062430Z
LAST-MODIFIED:20170612T134728Z
UID:748-1498586400-1498606200@www.florianalocalcouncil.com
SUMMARY:ISLE OF MTV MALTA CONCERT
DESCRIPTION:Now in its 11th year\, the Isle of MTV Malta concert has attracted some of the biggest names in world music including: Steve Aoki\, Wiz Khalifa\, Jason Derulo\, Martin Garrix\, Nicole Sherzinger\, Jessie J\, Will.i.am\, Rita Ora\, Flo Rida\, Snoop Dogg\, Lady Gaga.  \nWe are looking forward to delivering the same summer festival experience this year.
URL:https://www.florianalocalcouncil.com/event/isle-of-mtv/
LOCATION:Granaries Floriana\, Floriana\, Malta
ATTACH;FMTTYPE=image/jpeg:https://www.florianalocalcouncil.com/wp-content/uploads/2017/05/16996121_1414321525292337_5942191293913286642_n.jpg
END:VEVENT
BEGIN:VEVENT
DTSTART;TZID=Europe/Malta:20170622T143000
DTEND;TZID=Europe/Malta:20170622T153000
DTSTAMP:20260425T132415
CREATED:20170612T140922Z
LAST-MODIFIED:20170621T114928Z
UID:816-1498141800-1498145400@www.florianalocalcouncil.com
SUMMARY:Local Council Meeting
DESCRIPTION:IS-SEBA’ LEGISLATURA\nAĠENDA NRU. 34-7/2017\nLAQGĦA TAL-KUNSILL LOKALI FLORIANA \n\n16 ta’ Ġunju 2017 \nA Ġ E N D A\n34.1 Qari tal-ittri ta’ apoloġiji;\n34.2 Kunsiderazzjoni u Approvazzjoni tal-Minuti;\n34.3 Komunikazzjoni mis-Sindku;\n34.4 Rapporti;\n34.5 Tweġibiet għall-Mistoqsijiet tal-Kunsillieri;\n34.6 Kunsiderazzjoni u Approvazzjoni tar-Rapport tal-laqgħat ta’ Kumitati u/jew Sotto Kumitati;\n34.7 Kunsiderazzjoni u Approvazzjoni tal-iskeda ta’ pagamenti;\n34.8 Mozzjonijiet;\n34.9 Offerti pubbliċi;\n34.10 Korrispondenza;\n34.11 Website tal-Kunsill;\n34.12 Isle of MTV;\n34.13 Funtani KG5;\n34.14 Joseph Calleja;\n34.15 Bollard quddiem residenza;\n34.16 Tmien il-laqgħa u data tas-seduta li jmiss.
URL:https://www.florianalocalcouncil.com/event/local-council-meeting/
LOCATION:Local Council Building Floriana\, Floriana\, Malta
ATTACH;FMTTYPE=image/jpeg:https://www.florianalocalcouncil.com/wp-content/uploads/2017/06/20151002170856-controllers-business-people-working-papers-meeting.jpeg
END:VEVENT
END:VCALENDAR